BEGIN:VCALENDAR
VERSION:2.0
PRODID:-//Ghana Flower  - ECPv6.15.12.2//NONSGML v1.0//EN
CALSCALE:GREGORIAN
METHOD:PUBLISH
X-ORIGINAL-URL:https://www.ghanaflower.org
X-WR-CALDESC:Events for Ghana Flower 
REFRESH-INTERVAL;VALUE=DURATION:PT1H
X-Robots-Tag:noindex
X-PUBLISHED-TTL:PT1H
BEGIN:VTIMEZONE
TZID:UTC
BEGIN:STANDARD
TZOFFSETFROM:+0000
TZOFFSETTO:+0000
TZNAME:UTC
DTSTART:20220101T000000
END:STANDARD
END:VTIMEZONE
BEGIN:VEVENT
DTSTART;VALUE=DATE:20231120
DTEND;VALUE=DATE:20231121
DTSTAMP:20260424T152656
CREATED:20231104T173040Z
LAST-MODIFIED:20231104T174429Z
UID:1607-1700438400-1700524799@www.ghanaflower.org
SUMMARY:community_durbar
DESCRIPTION:Community Durbar\, Kobrjso
URL:https://www.ghanaflower.org/event/community_durbar/
END:VEVENT
BEGIN:VEVENT
DTSTART;TZID=UTC:20231028T080000
DTEND;TZID=UTC:20231028T170000
DTSTAMP:20260424T152656
CREATED:20231028T144955Z
LAST-MODIFIED:20231028T145007Z
UID:1569-1698480000-1698512400@www.ghanaflower.org
SUMMARY:Gifts
DESCRIPTION:Going out to give some gifts
URL:https://www.ghanaflower.org/event/gifts/
END:VEVENT
BEGIN:VEVENT
DTSTART;VALUE=DATE:20230529
DTEND;VALUE=DATE:20230530
DTSTAMP:20260424T152656
CREATED:20231104T172806Z
LAST-MODIFIED:20231104T172817Z
UID:1605-1685318400-1685404799@www.ghanaflower.org
SUMMARY:world_menstrual_hygiene_day
DESCRIPTION:Word Menstrual Hygiene Day
URL:https://www.ghanaflower.org/event/world_menstrual_hygiene_day/
ATTACH;FMTTYPE=image/jpeg:https://www.ghanaflower.org/wp-content/uploads/2023/10/ghanaflower-donations.jpg
END:VEVENT
END:VCALENDAR